BEGIN:VCALENDAR
VERSION:2.0
PRODID:-//Williamsburg Bird Club - ECPv6.15.20//NONSGML v1.0//EN
CALSCALE:GREGORIAN
METHOD:PUBLISH
X-ORIGINAL-URL:https://williamsburgbirdclub.org
X-WR-CALDESC:Events for Williamsburg Bird Club
REFRESH-INTERVAL;VALUE=DURATION:PT1H
X-Robots-Tag:noindex
X-PUBLISHED-TTL:PT1H
BEGIN:VTIMEZONE
TZID:America/New_York
BEGIN:DAYLIGHT
TZOFFSETFROM:-0500
TZOFFSETTO:-0400
TZNAME:EDT
DTSTART:20240310T070000
END:DAYLIGHT
BEGIN:STANDARD
TZOFFSETFROM:-0400
TZOFFSETTO:-0500
TZNAME:EST
DTSTART:20241103T060000
END:STANDARD
BEGIN:DAYLIGHT
TZOFFSETFROM:-0500
TZOFFSETTO:-0400
TZNAME:EDT
DTSTART:20250309T070000
END:DAYLIGHT
BEGIN:STANDARD
TZOFFSETFROM:-0400
TZOFFSETTO:-0500
TZNAME:EST
DTSTART:20251102T060000
END:STANDARD
BEGIN:DAYLIGHT
TZOFFSETFROM:-0500
TZOFFSETTO:-0400
TZNAME:EDT
DTSTART:20260308T070000
END:DAYLIGHT
BEGIN:STANDARD
TZOFFSETFROM:-0400
TZOFFSETTO:-0500
TZNAME:EST
DTSTART:20261101T060000
END:STANDARD
END:VTIMEZONE
BEGIN:VEVENT
DTSTART;TZID=America/New_York:20250917T180000
DTEND;TZID=America/New_York:20250917T203000
DTSTAMP:20260424T022248
CREATED:20250927T231343Z
LAST-MODIFIED:20250927T231343Z
UID:12487-1758132000-1758141000@williamsburgbirdclub.org
SUMMARY:Meeting: Jamie Wick "Birds of Costa Rica"
DESCRIPTION:Join us September 17\, 6:00 p.m. for light refreshments\, followed by the presentation at 6:30 p.m. Photographer Jamie Wick\, “Costa Rica: Exploring the Osa Peninsula and the Tarcoles River”. Meeting will be held in-person at the Quarterpath Recreation Center and via Zoom.
URL:https://williamsburgbirdclub.org/event/meeting-jamie-wick-birds-of-costa-rica/
LOCATION:New Quarter Park\, 1000 Lakeshead Dr\, Williamsburg\, VA\, 23185\, United States
CATEGORIES:Meeting
END:VEVENT
BEGIN:VEVENT
DTSTART;TZID=America/New_York:20250920T080000
DTEND;TZID=America/New_York:20250920T170000
DTSTAMP:20260424T022248
CREATED:20250927T231745Z
LAST-MODIFIED:20250927T231745Z
UID:12489-1758355200-1758387600@williamsburgbirdclub.org
SUMMARY:Field Trip: Jamestown Beach Event Park
DESCRIPTION:We’ll meet at Jamestown Beach Event Park for a couple of hours of casual birding. Bring your coffee and your chair (oh\, and binoculars) for a meetup at 8:00 a.m. It might be casual birding\, but last year the group still recorded 43 species.
URL:https://williamsburgbirdclub.org/event/field-trip-jamestown-beach-event-park/
LOCATION:Jamestown Beach Event Park\, 2205 Jamestown Rd\, Williamsburg\, VA\, 23185\, United States
CATEGORIES:Field Trip
END:VEVENT
BEGIN:VEVENT
DTSTART;TZID=America/New_York:20250927T080000
DTEND;TZID=America/New_York:20250927T100000
DTSTAMP:20260424T022248
CREATED:20250102T162731Z
LAST-MODIFIED:20250102T162731Z
UID:10281-1758960000-1758967200@williamsburgbirdclub.org
SUMMARY:Bird Walk at New Quarter Park
DESCRIPTION:Park in the lot near the park office. Bring binoculars if you have them\, or borrow some from the office. Free\, open to the public. Kids welcome.
URL:https://williamsburgbirdclub.org/event/bird-walk-at-new-quarter-park-11/
LOCATION:New Quarter Park\, 1000 Lakeshead Dr\, Williamsburg\, VA\, 23185\, United States
CATEGORIES:Bird Walk
END:VEVENT
END:VCALENDAR