BEGIN:VCALENDAR
VERSION:2.0
PRODID:-//Williamsburg Bird Club - ECPv6.15.20//NONSGML v1.0//EN
CALSCALE:GREGORIAN
METHOD:PUBLISH
X-ORIGINAL-URL:https://williamsburgbirdclub.org
X-WR-CALDESC:Events for Williamsburg Bird Club
REFRESH-INTERVAL;VALUE=DURATION:PT1H
X-Robots-Tag:noindex
X-PUBLISHED-TTL:PT1H
BEGIN:VTIMEZONE
TZID:America/New_York
BEGIN:DAYLIGHT
TZOFFSETFROM:-0500
TZOFFSETTO:-0400
TZNAME:EDT
DTSTART:20240310T070000
END:DAYLIGHT
BEGIN:STANDARD
TZOFFSETFROM:-0400
TZOFFSETTO:-0500
TZNAME:EST
DTSTART:20241103T060000
END:STANDARD
BEGIN:DAYLIGHT
TZOFFSETFROM:-0500
TZOFFSETTO:-0400
TZNAME:EDT
DTSTART:20250309T070000
END:DAYLIGHT
BEGIN:STANDARD
TZOFFSETFROM:-0400
TZOFFSETTO:-0500
TZNAME:EST
DTSTART:20251102T060000
END:STANDARD
BEGIN:DAYLIGHT
TZOFFSETFROM:-0500
TZOFFSETTO:-0400
TZNAME:EDT
DTSTART:20260308T070000
END:DAYLIGHT
BEGIN:STANDARD
TZOFFSETFROM:-0400
TZOFFSETTO:-0500
TZNAME:EST
DTSTART:20261101T060000
END:STANDARD
END:VTIMEZONE
BEGIN:VEVENT
DTSTART;TZID=America/New_York:20250618T180000
DTEND;TZID=America/New_York:20250618T193000
DTSTAMP:20260424T064938
CREATED:20250507T172753Z
LAST-MODIFIED:20250507T172753Z
UID:10889-1750269600-1750275000@williamsburgbirdclub.org
SUMMARY:Meeting: Chickahominy Riverfront Park Get-together
DESCRIPTION:We will meet for our annual outdoor meeting at the Chickahominy Riverfront Park with light refreshments and updates on our Purple Martin project by Cheryl Jacobson and the team.
URL:https://williamsburgbirdclub.org/event/meeting-chickahominy-riverfront-park-get-together/
LOCATION:Chickahominy Riverfront Park\, 1350 John Tyler Highway\, Williamsburg\, VA\, 23185\, United States
CATEGORIES:Meeting
END:VEVENT
BEGIN:VEVENT
DTSTART;TZID=America/New_York:20250628T080000
DTEND;TZID=America/New_York:20250628T100000
DTSTAMP:20260424T064938
CREATED:20250102T162458Z
LAST-MODIFIED:20250102T162458Z
UID:10275-1751097600-1751104800@williamsburgbirdclub.org
SUMMARY:Bird Walk at New Quarter Park
DESCRIPTION:Park in the lot near the park office. Bring binoculars if you have them\, or borrow some from the office. Free\, open to the public. Kids welcome.
URL:https://williamsburgbirdclub.org/event/bird-walk-at-new-quarter-park-8/
LOCATION:New Quarter Park\, 1000 Lakeshead Dr\, Williamsburg\, VA\, 23185\, United States
CATEGORIES:Bird Walk
END:VEVENT
END:VCALENDAR