BEGIN:VCALENDAR
VERSION:2.0
PRODID:-//Williamsburg Bird Club - ECPv6.15.20//NONSGML v1.0//EN
CALSCALE:GREGORIAN
METHOD:PUBLISH
X-WR-CALNAME:Williamsburg Bird Club
X-ORIGINAL-URL:https://williamsburgbirdclub.org
X-WR-CALDESC:Events for Williamsburg Bird Club
REFRESH-INTERVAL;VALUE=DURATION:PT1H
X-Robots-Tag:noindex
X-PUBLISHED-TTL:PT1H
BEGIN:VTIMEZONE
TZID:America/New_York
BEGIN:DAYLIGHT
TZOFFSETFROM:-0500
TZOFFSETTO:-0400
TZNAME:EDT
DTSTART:20230312T070000
END:DAYLIGHT
BEGIN:STANDARD
TZOFFSETFROM:-0400
TZOFFSETTO:-0500
TZNAME:EST
DTSTART:20231105T060000
END:STANDARD
BEGIN:DAYLIGHT
TZOFFSETFROM:-0500
TZOFFSETTO:-0400
TZNAME:EDT
DTSTART:20240310T070000
END:DAYLIGHT
BEGIN:STANDARD
TZOFFSETFROM:-0400
TZOFFSETTO:-0500
TZNAME:EST
DTSTART:20241103T060000
END:STANDARD
BEGIN:DAYLIGHT
TZOFFSETFROM:-0500
TZOFFSETTO:-0400
TZNAME:EDT
DTSTART:20250309T070000
END:DAYLIGHT
BEGIN:STANDARD
TZOFFSETFROM:-0400
TZOFFSETTO:-0500
TZNAME:EST
DTSTART:20251102T060000
END:STANDARD
END:VTIMEZONE
BEGIN:VEVENT
DTSTART;TZID=America/New_York:20241215T080000
DTEND;TZID=America/New_York:20241215T170000
DTSTAMP:20260424T115929
CREATED:20241216T015206Z
LAST-MODIFIED:20241216T022459Z
UID:10171-1734249600-1734282000@williamsburgbirdclub.org
SUMMARY:Christmas Bird Count 2024
DESCRIPTION:We need you for our upcoming Dec 22 Christmas Bird Count (CBC). Last year\, 100 folks helped tally over 29\,000 birds on our CBC day—a record-breaking day for some species counts! \nWhat will we find this year? Rarities? High counts? Each count provides surprises. \nOur CBC has 11 sectors\, each with an experienced birder assisted by one or more volunteers. Plus\, over half of our contributors are feeder watchers. The boundaries of our count circle are shown in the map that accompanies this article. You can help on December 22 by joining a team in the field\, by counting birds at your feeders and yards\, or both. If you can help out\, please respond to Shirley Devan at shirley_devan@icloud.com to let her know your preference: out in the field\, feeder watcher\, or hybrid (some time for both). \nEvery year the count occurs December 14 to January 5. Since 1901\, Christmas Bird Counts in the U.S. and around the world have provided scientists and\nornithologists with important data and trends on bird populations that can only be determined by LONG-term data. That’s why it’s so important to continue these studies EVERY YEAR. The CBC is an early-winter bird census.
URL:https://williamsburgbirdclub.org/event/christmas-bird-count/
LOCATION:VA
CATEGORIES:Bird Counts
END:VEVENT
END:VCALENDAR