BEGIN:VCALENDAR
VERSION:2.0
PRODID:-//Williamsburg Bird Club - ECPv6.15.20//NONSGML v1.0//EN
CALSCALE:GREGORIAN
METHOD:PUBLISH
X-WR-CALNAME:Williamsburg Bird Club
X-ORIGINAL-URL:https://williamsburgbirdclub.org
X-WR-CALDESC:Events for Williamsburg Bird Club
REFRESH-INTERVAL;VALUE=DURATION:PT1H
X-Robots-Tag:noindex
X-PUBLISHED-TTL:PT1H
BEGIN:VTIMEZONE
TZID:America/New_York
BEGIN:DAYLIGHT
TZOFFSETFROM:-0500
TZOFFSETTO:-0400
TZNAME:EDT
DTSTART:20230312T070000
END:DAYLIGHT
BEGIN:STANDARD
TZOFFSETFROM:-0400
TZOFFSETTO:-0500
TZNAME:EST
DTSTART:20231105T060000
END:STANDARD
BEGIN:DAYLIGHT
TZOFFSETFROM:-0500
TZOFFSETTO:-0400
TZNAME:EDT
DTSTART:20240310T070000
END:DAYLIGHT
BEGIN:STANDARD
TZOFFSETFROM:-0400
TZOFFSETTO:-0500
TZNAME:EST
DTSTART:20241103T060000
END:STANDARD
BEGIN:DAYLIGHT
TZOFFSETFROM:-0500
TZOFFSETTO:-0400
TZNAME:EDT
DTSTART:20250309T070000
END:DAYLIGHT
BEGIN:STANDARD
TZOFFSETFROM:-0400
TZOFFSETTO:-0500
TZNAME:EST
DTSTART:20251102T060000
END:STANDARD
BEGIN:DAYLIGHT
TZOFFSETFROM:-0500
TZOFFSETTO:-0400
TZNAME:EDT
DTSTART:20260308T070000
END:DAYLIGHT
BEGIN:STANDARD
TZOFFSETFROM:-0400
TZOFFSETTO:-0500
TZNAME:EST
DTSTART:20261101T060000
END:STANDARD
END:VTIMEZONE
BEGIN:VEVENT
DTSTART;TZID=America/New_York:20250823T080000
DTEND;TZID=America/New_York:20250823T100000
DTSTAMP:20260423T191657
CREATED:20250102T162628Z
LAST-MODIFIED:20250102T162628Z
UID:10279-1755936000-1755943200@williamsburgbirdclub.org
SUMMARY:Bird Walk at New Quarter Park
DESCRIPTION:Park in the lot near the park office. Bring binoculars if you have them\, or borrow some from the office. Free\, open to the public. Kids welcome.
URL:https://williamsburgbirdclub.org/event/bird-walk-at-new-quarter-park-10/
LOCATION:New Quarter Park\, 1000 Lakeshead Dr\, Williamsburg\, VA\, 23185\, United States
CATEGORIES:Bird Walk
END:VEVENT
BEGIN:VEVENT
DTSTART;TZID=America/New_York:20250726T080000
DTEND;TZID=America/New_York:20250726T100000
DTSTAMP:20260423T191657
CREATED:20250102T162540Z
LAST-MODIFIED:20250102T162540Z
UID:10277-1753516800-1753524000@williamsburgbirdclub.org
SUMMARY:Bird Walk at New Quarter Park
DESCRIPTION:Park in the lot near the park office. Bring binoculars if you have them\, or borrow some from the office. Free\, open to the public. Kids welcome.
URL:https://williamsburgbirdclub.org/event/bird-walk-at-new-quarter-park-9/
LOCATION:New Quarter Park\, 1000 Lakeshead Dr\, Williamsburg\, VA\, 23185\, United States
CATEGORIES:Bird Walk
END:VEVENT
BEGIN:VEVENT
DTSTART;TZID=America/New_York:20250628T080000
DTEND;TZID=America/New_York:20250628T100000
DTSTAMP:20260423T191657
CREATED:20250102T162458Z
LAST-MODIFIED:20250102T162458Z
UID:10275-1751097600-1751104800@williamsburgbirdclub.org
SUMMARY:Bird Walk at New Quarter Park
DESCRIPTION:Park in the lot near the park office. Bring binoculars if you have them\, or borrow some from the office. Free\, open to the public. Kids welcome.
URL:https://williamsburgbirdclub.org/event/bird-walk-at-new-quarter-park-8/
LOCATION:New Quarter Park\, 1000 Lakeshead Dr\, Williamsburg\, VA\, 23185\, United States
CATEGORIES:Bird Walk
END:VEVENT
BEGIN:VEVENT
DTSTART;TZID=America/New_York:20250618T180000
DTEND;TZID=America/New_York:20250618T193000
DTSTAMP:20260423T191657
CREATED:20250507T172753Z
LAST-MODIFIED:20250507T172753Z
UID:10889-1750269600-1750275000@williamsburgbirdclub.org
SUMMARY:Meeting: Chickahominy Riverfront Park Get-together
DESCRIPTION:We will meet for our annual outdoor meeting at the Chickahominy Riverfront Park with light refreshments and updates on our Purple Martin project by Cheryl Jacobson and the team.
URL:https://williamsburgbirdclub.org/event/meeting-chickahominy-riverfront-park-get-together/
LOCATION:Chickahominy Riverfront Park\, 1350 John Tyler Highway\, Williamsburg\, VA\, 23185\, United States
CATEGORIES:Meeting
END:VEVENT
BEGIN:VEVENT
DTSTART;TZID=America/New_York:20250524T080000
DTEND;TZID=America/New_York:20250524T100000
DTSTAMP:20260423T191657
CREATED:20250102T162418Z
LAST-MODIFIED:20250102T162418Z
UID:10273-1748073600-1748080800@williamsburgbirdclub.org
SUMMARY:Bird Walk at New Quarter Park
DESCRIPTION:Park in the lot near the park office. Bring binoculars if you have them\, or borrow some from the office. Free\, open to the public. Kids welcome.
URL:https://williamsburgbirdclub.org/event/bird-walk-at-new-quarter-park-7/
LOCATION:New Quarter Park\, 1000 Lakeshead Dr\, Williamsburg\, VA\, 23185\, United States
CATEGORIES:Bird Walk
END:VEVENT
BEGIN:VEVENT
DTSTART;TZID=America/New_York:20250521T180000
DTEND;TZID=America/New_York:20250521T203000
DTSTAMP:20260423T191657
CREATED:20250127T164148Z
LAST-MODIFIED:20250507T172055Z
UID:10404-1747850400-1747859400@williamsburgbirdclub.org
SUMMARY:Meeting: Dixie Sommers\, “Birding in Chile”
DESCRIPTION:Join us Wednesday\, May 21 at 6:00 p.m.\, for light refreshments followed by the presentation at 6:30 p.m.: : Dixie Sommers\, “Birding in Chile”. Meeting will be in-person at the Quarterpath Recreation Center and via Zoom. \nDixie Sommers joined the WINGS Birding Tour trip to Chile in November 2023. The tour ranged from the far south and sea level Tierra del Fuego to the far north and high altitude Atacama desert. The group counted 258 species ranging from penguins to flamingos to tapaculos to furnariids (ovenbirds).
URL:https://williamsburgbirdclub.org/event/meeting-4/
LOCATION:Quarterpath Rec Center\, 202 Quarterpath Road\, Williamsburg\, 23185\, United States
CATEGORIES:Meeting
END:VEVENT
BEGIN:VEVENT
DTSTART;TZID=America/New_York:20250517T080000
DTEND;TZID=America/New_York:20250517T170000
DTSTAMP:20260423T191657
CREATED:20250102T164823Z
LAST-MODIFIED:20250507T173051Z
UID:10295-1747468800-1747501200@williamsburgbirdclub.org
SUMMARY:Field Trip: Ford’s Colony
DESCRIPTION:For the May field trip\, on Saturday\, May 17\, we’ll have a small group birding at Ford’s Colony\, my own neighborhood. Ford’s Colony has diverse habitat\, resulting in a pretty wide variety of birds visible in the community. Over the past several years\, I’ve been able to see more than 100 species annually. The species counts on recent bird walks have averaged over 40. Come see the Purple Martins! And we should have Green Herons\, White-eyed Vireos\, Acadian and Great Crested flycatchers\, and maybe a Prothonotary Wabler or two. Guests will need passes to enter Ford’s Colony\, so the group will be limited to the first twelve who respond. We’ll meet at the Westbury parking lot at 7:30 a.m. that morning. Specific directions will be sent to attendees closer to the date. If you would like to bird at Ford’s Colony\, please email George Martin at grm0803@gmail.com.
URL:https://williamsburgbirdclub.org/event/field-trip-4/
LOCATION:VA
CATEGORIES:Field Trip
END:VEVENT
BEGIN:VEVENT
DTSTART;TZID=America/New_York:20250427T080000
DTEND;TZID=America/New_York:20250427T170000
DTSTAMP:20260423T191657
CREATED:20250324T193715Z
LAST-MODIFIED:20250927T232111Z
UID:10632-1745740800-1745773200@williamsburgbirdclub.org
SUMMARY:Spring Bird Count
DESCRIPTION:In some ways\, the spring count is easier than the Christmas Bird Count:\n\n\n\nWarmer weather — thank goodness!\nLonger daylight \nLess data to collect! We only want bird species and numbers of individuals. No need to count miles/hours walked or driving. Phew! We do not have to report   to National Audubon\nDifferent birds! Most of the winter ducks will be gone and some spring migrants and breeders will be here. Last spring we tallied 19 warbler species and a total of 153 species! WOW!\n\n\n\nThe 12 sectors are the same:\n\n\nCheatham Annex\nCollege Woods\nFords Colony\nGloucester\nHog Island\nJamestown\nJolly Pond\nKingsmill\nMiddle Plantation\nSkimino\nWaller Mill\nWarhill\n\n\nAt the end of the day\, we still want to know who participates on each team as well as the feeder counters.\n\nIf you participated recently (spring or Christmas counts)\, we hope you’ll join in again April 27 — in the field or at your feeder!\n\nI’ll be in touch with the Sector Leaders and ask them to reach out to their usual participants. And of course Feeder Watchers are important and needed.\n\nLook for more info closer to the date. I hope you’ll join us for one of the highlights of our Bird Club’s year.\n\n\nContact Shirley Devan if you have questions or want to join in for the first time.
URL:https://williamsburgbirdclub.org/event/spring-bird-count/
LOCATION:VA
CATEGORIES:Bird Counts
END:VEVENT
BEGIN:VEVENT
DTSTART;TZID=America/New_York:20250426T080000
DTEND;TZID=America/New_York:20250426T100000
DTSTAMP:20260423T191657
CREATED:20250102T162337Z
LAST-MODIFIED:20250102T162337Z
UID:10271-1745654400-1745661600@williamsburgbirdclub.org
SUMMARY:Bird Walk at New Quarter Park
DESCRIPTION:Park in the lot near the park office. Bring binoculars if you have them\, or borrow some from the office. Free\, open to the public. Kids welcome.
URL:https://williamsburgbirdclub.org/event/bird-walk-at-new-quarter-park-6/
LOCATION:New Quarter Park\, 1000 Lakeshead Dr\, Williamsburg\, VA\, 23185\, United States
CATEGORIES:Bird Walk
END:VEVENT
BEGIN:VEVENT
DTSTART;TZID=America/New_York:20250419T070000
DTEND;TZID=America/New_York:20250419T120000
DTSTAMP:20260423T191657
CREATED:20250305T184913Z
LAST-MODIFIED:20250331T014906Z
UID:10545-1745046000-1745064000@williamsburgbirdclub.org
SUMMARY:Field Trip to Chippokes State Park
DESCRIPTION:For the Club’s April field trip\, we’ll go to Chippokes State Park in Surry County.  Nancy Barnhart will lead the group.  Some summer breeders should have arrived\, including Ovenbird\, Yellow-throated Warbler\, and Northern Parula. \nThe park also has a good population of Eastern Meadowlark. The trip from Williamsburg will require a ride on the Jamestown-Scotland ferry.  We recommend you arrive at the ferry dock by 7:10 a.m. to catch the 7:20 a.m. departure.  If you’d like to consolidate cars\, please let George Martin know by email to grm0803@gmail.com\, and plan to meet in the Jamestown Settlement parking lot a little after 7 a.m. \nIf you’re coming from southside\, plan to meet at the main parking lot after the entrance on Chippokes Park Road by 8 a.m.  If you have a state park pass\, bring that.  Without a pass\, the entry fee is $7 per vehicle. And after birding\, I suggest we meet for lunch at Surry Seafood.
URL:https://williamsburgbirdclub.org/event/field-trip-to-chippokes-state-park/
LOCATION:Chippokes State Park\, 695 Chippokes Park Rd\, Surry\, United States
CATEGORIES:Field Trip
ORGANIZER;CN="Williamsburg Bird Club":MAILTO:jnavia@gmail.com
END:VEVENT
BEGIN:VEVENT
DTSTART;TZID=America/New_York:20250416T180000
DTEND;TZID=America/New_York:20250416T203000
DTSTAMP:20260423T191657
CREATED:20250127T164105Z
LAST-MODIFIED:20250507T172358Z
UID:10402-1744826400-1744835400@williamsburgbirdclub.org
SUMMARY:Meeting: W&M Student Research Presentations
DESCRIPTION:Research updates by W&M students awarded a WBC Bill Sheehan/Ruth Beck Ornithology Research Grants \n\nSamuel Arnold – “Waterbird Use of Living Shorelines across the Gradient of Urbanization”\nSophie Rabinowicz – “The Movement of Mercury from Aquatic Ecosystems to Terrestrial Songbirds”\nMax Rollfinke – “The Lateral Extent of Mercury Contamination in Songbirds and Their Prey”.
URL:https://williamsburgbirdclub.org/event/meeting-3/
LOCATION:Quarterpath Rec Center\, 202 Quarterpath Road\, Williamsburg\, 23185\, United States
CATEGORIES:Meeting
END:VEVENT
BEGIN:VEVENT
DTSTART;TZID=America/New_York:20250322T080000
DTEND;TZID=America/New_York:20250322T100000
DTSTAMP:20260423T191657
CREATED:20250102T162252Z
LAST-MODIFIED:20250102T162252Z
UID:10269-1742630400-1742637600@williamsburgbirdclub.org
SUMMARY:Bird Walk at New Quarter Park
DESCRIPTION:Park in the lot near the park office. Bring binoculars if you have them\, or borrow some from the office. Free\, open to the public. Kids welcome.
URL:https://williamsburgbirdclub.org/event/bird-walk-at-new-quarter-park-5/
LOCATION:New Quarter Park\, 1000 Lakeshead Dr\, Williamsburg\, VA\, 23185\, United States
CATEGORIES:Bird Walk
END:VEVENT
BEGIN:VEVENT
DTSTART;TZID=America/New_York:20250319T180000
DTEND;TZID=America/New_York:20250319T203000
DTSTAMP:20260423T191657
CREATED:20250127T164014Z
LAST-MODIFIED:20250202T185149Z
UID:10400-1742407200-1742416200@williamsburgbirdclub.org
SUMMARY:Meeting: Andrew Rapp “Shorebirds of Virginia"
DESCRIPTION:Join us for a  presentation by Andrew Rapp on “Shorebirds of Virginia.”
URL:https://williamsburgbirdclub.org/event/meeting-2/
LOCATION:Quarterpath Rec Center\, 202 Quarterpath Road\, Williamsburg\, 23185\, United States
CATEGORIES:Meeting
END:VEVENT
BEGIN:VEVENT
DTSTART;TZID=America/New_York:20250315T080000
DTEND;TZID=America/New_York:20250315T120000
DTSTAMP:20260423T191657
CREATED:20250102T164718Z
LAST-MODIFIED:20250301T153735Z
UID:10291-1742025600-1742040000@williamsburgbirdclub.org
SUMMARY:Field Trip to Machicomoco State Park in Gloucester
DESCRIPTION:On Saturday\, March 15\, we’ll visit Machicomoco State Park in Gloucester  County for a morning of birding.  Deborah Humphries will lead us through the different habitats at the park\, with viewing spots along the York River as well as fields and forests.  I look forward to seeing the myriad Field Sparrows at the park\, but there’s more!  The fields can also attract shorebirds\, and both Dunlin and Black-bellied Plover have been recorded at the park in the past week.  Ospreys?  We expect to see several\, and some might be carrying material to freshen up last year’s nest. \nWe’ll meet at the parking lot just past the entrance at 8 a.m.  The address for the park is 3601 Timberneck Farm Rd\, Hayes\, VA 23072.  If you’d like to carpool\, or you are willing to drive others\, please let me know at grm0803@gmail.com .  Carpoolers should meet at the Colony Square Shopping Center a little after 7 a.m. for departure by 7:15 a.m.   \nIf you have a state park pass\, bring that.  The entrance fee for those without passes is $5 per vehicle.
URL:https://williamsburgbirdclub.org/event/field-trip-2/
LOCATION:Machicomoco State Park\, Address 3601 Timberneck Farm Rd\, Gloucester\, VA\, United States
CATEGORIES:Field Trip
END:VEVENT
BEGIN:VEVENT
DTSTART;TZID=America/New_York:20250226T180000
DTEND;TZID=America/New_York:20250226T203000
DTSTAMP:20260423T191657
CREATED:20250127T163854Z
LAST-MODIFIED:20250219T165244Z
UID:10398-1740592800-1740601800@williamsburgbirdclub.org
SUMMARY:Postponed: Meeting: Bill Williams “The Birdlife of Virginia’s Colonial Historic Triangle: Then and Now"
DESCRIPTION:Join us on February 26 at 6:30 p.m. for Bill Williams’s presentation on “The Birdlife of Virginia’s Colonial Historic Triangle: Then and Now.” The history of this community we call home continues to be researched\, catalogued\, and brought to life through rich and diverse contextual platforms. Our February program will explore one of those contexts through the natural history of its many-faceted birdlife and the people who have made that perspective vibrant and engaging. \nNote this is the fourth Wednesday. Postponed from the usual third Wednesday because of the weather.
URL:https://williamsburgbirdclub.org/event/meeting/
LOCATION:Quarterpath Rec Center\, 202 Quarterpath Road\, Williamsburg\, 23185\, United States
CATEGORIES:Meeting
END:VEVENT
BEGIN:VEVENT
DTSTART;TZID=America/New_York:20250222T080000
DTEND;TZID=America/New_York:20250222T100000
DTSTAMP:20260423T191657
CREATED:20250102T162216Z
LAST-MODIFIED:20250102T162216Z
UID:10267-1740211200-1740218400@williamsburgbirdclub.org
SUMMARY:Bird Walk at New Quarter Park
DESCRIPTION:Park in the lot near the park office. Bring binoculars if you have them\, or borrow some from the office. Free\, open to the public. Kids welcome.
URL:https://williamsburgbirdclub.org/event/bird-walk-at-new-quarter-park-4/
LOCATION:New Quarter Park\, 1000 Lakeshead Dr\, Williamsburg\, VA\, 23185\, United States
CATEGORIES:Bird Walk
END:VEVENT
BEGIN:VEVENT
DTSTART;TZID=America/New_York:20250215T080000
DTEND;TZID=America/New_York:20250215T120000
DTSTAMP:20260423T191657
CREATED:20250102T164654Z
LAST-MODIFIED:20250202T185338Z
UID:10289-1739606400-1739620800@williamsburgbirdclub.org
SUMMARY:Field Trip Along York River
DESCRIPTION:Rexanne Bruno will lead us at various sites along the York River.  In the past\, this trip has provided an opportunity to see several winter resident species\, including Tundra Swan\, Bonaparte’s Gull\, an occasional Clapper Rail\, and several deep-water ducks.  The fields around the Yorktown Battlefield also are good habitat for Eastern Meadowlark and American Kestrel. \nWe’ll meet in the parking lot of the Target at Marquis Parkway at 8 a.m.\, where we can consolidate cars for the morning.  The entrance to the parkway at the end of Rt 199 is closed\, so we’ll start by driving to Yorktown\, entering the parkway there\, and driving to Felgates Creek for our first stop.  We’ll then bird the sites on the way back to Yorktown Battlefield and the beach as we have in previous years.   And those getting hungry can meet for lunch at the Yorktown Diner after birding. \nHappy birding!
URL:https://williamsburgbirdclub.org/event/field-trip/
LOCATION:Target\, Marquis Shopping Center\, 200 Marquis Parkway\, Williamsburg\, 23185\, United States
CATEGORIES:Field Trip
END:VEVENT
BEGIN:VEVENT
DTSTART;VALUE=DATE:20250214
DTEND;VALUE=DATE:20250218
DTSTAMP:20260423T191657
CREATED:20250209T045904Z
LAST-MODIFIED:20250209T050357Z
UID:10453-1739491200-1739836799@williamsburgbirdclub.org
SUMMARY:Great Backyard Bird Count
DESCRIPTION:From Cornell:\nEach February\, for four days\, the world comes together for the love of birds. Over these four days we invite people to spend time in their favorite places watching and counting as many birds as they can find and reporting them to us. These observations help scientists better understand global bird populations before one of their annual migrations.\nSee how you can help!
URL:https://williamsburgbirdclub.org/event/great-backyard-bird-count/
LOCATION:VA
CATEGORIES:Bird Counts
END:VEVENT
BEGIN:VEVENT
DTSTART;TZID=America/New_York:20250125T080000
DTEND;TZID=America/New_York:20250125T100000
DTSTAMP:20260423T191657
CREATED:20250102T162139Z
LAST-MODIFIED:20250102T162139Z
UID:10265-1737792000-1737799200@williamsburgbirdclub.org
SUMMARY:Bird Walk at New Quarter Park
DESCRIPTION:Park in the lot near the park office. Bring binoculars if you have them\, or borrow some from the office. Free\, open to the public. Kids welcome.
URL:https://williamsburgbirdclub.org/event/bird-walk-at-new-quarter-park-3/
LOCATION:New Quarter Park\, 1000 Lakeshead Dr\, Williamsburg\, VA\, 23185\, United States
CATEGORIES:Bird Walk
END:VEVENT
BEGIN:VEVENT
DTSTART;TZID=America/New_York:20250118T080000
DTEND;TZID=America/New_York:20250118T120000
DTSTAMP:20260423T191657
CREATED:20241216T020657Z
LAST-MODIFIED:20260109T155837Z
UID:10176-1737187200-1737201600@williamsburgbirdclub.org
SUMMARY:Field Trip to Dutch Gap
DESCRIPTION:The Williamsburg Bird Club field trip to Dutch Gap Conservation Area is scheduled for next Saturday\, January 18.  We’ll meet in the parking area for the Henricus Historical Park at 9 a.m.  Rose Ryan will then lead our group around the impoundment area\, where there are usually large numbers of wintering ducks.  There’s been only one checklist posted to eBird since my note last weekend\, so I [George Martin] don’t have an update on the species present.  I plan to check out the park this week to make sure there’s still open water.  Based on our experience last year\, I expect there will be plenty of ducks even though some cold weather is forecast tor this week. \nThe current weather forecast calls for seasonal conditions – a little chilly at the start\, but warming.  I don’t think we’ll have to worry about ice cover on the impoundment.\n\nThe address for the park is 251 Henricus Park Road\, Chester\, VA 23836.  I won’t be arranging car pools for this field trip\, but please join up with other interested people to share rides.
URL:https://williamsburgbirdclub.org/event/field-trip-to-dutch-gap/
LOCATION:Dutch Gap\, 341 Henricus Park Road\, Chester\, 23836\, United States
CATEGORIES:Field Trip
ATTACH;FMTTYPE=image/jpeg:https://williamsburgbirdclub.org/wp-content/uploads/bufflehead-parkway.jpg
END:VEVENT
BEGIN:VEVENT
DTSTART;TZID=America/New_York:20250115T180000
DTEND;TZID=America/New_York:20250115T203000
DTSTAMP:20260423T191657
CREATED:20241216T014737Z
LAST-MODIFIED:20250114T205151Z
UID:10168-1736964000-1736973000@williamsburgbirdclub.org
SUMMARY:Meeting: John Swaddle on Sparrows as Sentinels
DESCRIPTION:This will be our joint meeting with the Historic Rivers Chapter of the\nVirginia Master Naturalists. Presenter will be Dr. John Swaddle\, Professor of Biology and Faculty Director of the W&M Institute for Integrative Conservation\, on “Sparrows as Sentinels: Health study illustrates the\ninterconnectedness of humans and wildlife.” \nSocializing at 6:00; Presentation at 6:30
URL:https://williamsburgbirdclub.org/event/meeting-john-swaddle-on-sparrows-as-sentinels/
LOCATION:Quarterpath Rec Center\, 202 Quarterpath Road\, Williamsburg\, 23185\, United States
CATEGORIES:Meeting
END:VEVENT
BEGIN:VEVENT
DTSTART;TZID=America/New_York:20250101T130000
DTEND;TZID=America/New_York:20250101T150000
DTSTAMP:20260423T191657
CREATED:20241216T012912Z
LAST-MODIFIED:20241216T024118Z
UID:10160-1735736400-1735743600@williamsburgbirdclub.org
SUMMARY:New Year’s Day Bird and Birder Show
DESCRIPTION:Please join birding enthusiasts Wednesday\, January\n1\, 2025\, at Chickahominy Riverfront Park for the “New\nYear’s Day Bird and Birder Show.” The 2025\ngathering will be our club’s 19th “almost-annual” event.\nWe’ll convene at the shelter next to the swimming pool\nbetween 1:00 – 3:00 p.m. Relax and visit with new and\nfamiliar friends at the picnic tables or venture out\naround the park to find our wintering birds. The Park\nprovides wonderful access to check the river (from the\nnew fishing pier!) and Gordon Creek (from the boat\nlaunch) for our wintering waterfowl\, plus the woodland\nedges will yield our winter passerine residents. \nThe address for Chickahominy Riverfront Park is 1350\nJohn Tyler Hwy\, Williamsburg\, VA 23185. Note John\nTyler Highway is Route 5 West. The park is on the\nright just before crossing the bridge over the\nChickahominy River. You can find directions to the\npark on its website at: https://www.jamescitycountyva.gov/Facilities/Facility/Details/Chickahominy-Riverfront-Park-2\nBring visiting family\, friends\, and children. Come\nearly\, stay late\, or just drop by. Remember\, every bird\nis a year bird on New Year’s Day! I look forward to\nwelcoming you to celebrate the start of 2025.
URL:https://williamsburgbirdclub.org/event/new-years-day-bird-and-birder-show/
LOCATION:Chickahominy Riverfront Park\, 1350 John Tyler Highway\, Williamsburg\, VA\, 23185\, United States
ATTACH;FMTTYPE=image/jpeg:https://williamsburgbirdclub.org/wp-content/uploads/01-01-2022-Happy-Birders-NQP.jpeg
END:VEVENT
BEGIN:VEVENT
DTSTART;TZID=America/New_York:20241228T080000
DTEND;TZID=America/New_York:20241228T100000
DTSTAMP:20260423T191657
CREATED:20241214T162612Z
LAST-MODIFIED:20241216T023957Z
UID:10141-1735372800-1735380000@williamsburgbirdclub.org
SUMMARY:Bird Walk at New Quarter Park
DESCRIPTION:Join us for a two-hour bird walk at New Quarter Park! Bring binoculars if you have them\, or borrow them from the park office. Free and open to the public. Kids welcome. \n 
URL:https://williamsburgbirdclub.org/event/bird-walk-at-new-quarter-park/
LOCATION:New Quarter Park\, 1000 Lakeshead Dr\, Williamsburg\, VA\, 23185\, United States
CATEGORIES:Bird Walk
ATTACH;FMTTYPE=image/jpeg:https://williamsburgbirdclub.org/wp-content/uploads/nqp20230225-sd.jpeg
ORGANIZER;CN="Williamsburg Bird Club":MAILTO:jnavia@gmail.com
END:VEVENT
BEGIN:VEVENT
DTSTART;TZID=America/New_York:20241215T080000
DTEND;TZID=America/New_York:20241215T170000
DTSTAMP:20260423T191657
CREATED:20241216T015206Z
LAST-MODIFIED:20241216T022459Z
UID:10171-1734249600-1734282000@williamsburgbirdclub.org
SUMMARY:Christmas Bird Count 2024
DESCRIPTION:We need you for our upcoming Dec 22 Christmas Bird Count (CBC). Last year\, 100 folks helped tally over 29\,000 birds on our CBC day—a record-breaking day for some species counts! \nWhat will we find this year? Rarities? High counts? Each count provides surprises. \nOur CBC has 11 sectors\, each with an experienced birder assisted by one or more volunteers. Plus\, over half of our contributors are feeder watchers. The boundaries of our count circle are shown in the map that accompanies this article. You can help on December 22 by joining a team in the field\, by counting birds at your feeders and yards\, or both. If you can help out\, please respond to Shirley Devan at shirley_devan@icloud.com to let her know your preference: out in the field\, feeder watcher\, or hybrid (some time for both). \nEvery year the count occurs December 14 to January 5. Since 1901\, Christmas Bird Counts in the U.S. and around the world have provided scientists and\nornithologists with important data and trends on bird populations that can only be determined by LONG-term data. That’s why it’s so important to continue these studies EVERY YEAR. The CBC is an early-winter bird census.
URL:https://williamsburgbirdclub.org/event/christmas-bird-count/
LOCATION:VA
CATEGORIES:Bird Counts
END:VEVENT
END:VCALENDAR