BEGIN:VCALENDAR
VERSION:2.0
PRODID:-//Williamsburg Bird Club - ECPv6.15.20//NONSGML v1.0//EN
CALSCALE:GREGORIAN
METHOD:PUBLISH
X-WR-CALNAME:Williamsburg Bird Club
X-ORIGINAL-URL:https://williamsburgbirdclub.org
X-WR-CALDESC:Events for Williamsburg Bird Club
REFRESH-INTERVAL;VALUE=DURATION:PT1H
X-Robots-Tag:noindex
X-PUBLISHED-TTL:PT1H
BEGIN:VTIMEZONE
TZID:America/New_York
BEGIN:DAYLIGHT
TZOFFSETFROM:-0500
TZOFFSETTO:-0400
TZNAME:EDT
DTSTART:20250309T070000
END:DAYLIGHT
BEGIN:STANDARD
TZOFFSETFROM:-0400
TZOFFSETTO:-0500
TZNAME:EST
DTSTART:20251102T060000
END:STANDARD
BEGIN:DAYLIGHT
TZOFFSETFROM:-0500
TZOFFSETTO:-0400
TZNAME:EDT
DTSTART:20260308T070000
END:DAYLIGHT
BEGIN:STANDARD
TZOFFSETFROM:-0400
TZOFFSETTO:-0500
TZNAME:EST
DTSTART:20261101T060000
END:STANDARD
BEGIN:DAYLIGHT
TZOFFSETFROM:-0500
TZOFFSETTO:-0400
TZNAME:EDT
DTSTART:20270314T070000
END:DAYLIGHT
BEGIN:STANDARD
TZOFFSETFROM:-0400
TZOFFSETTO:-0500
TZNAME:EST
DTSTART:20271107T060000
END:STANDARD
END:VTIMEZONE
BEGIN:VEVENT
DTSTART;TZID=America/New_York:20260318T180000
DTEND;TZID=America/New_York:20260318T193000
DTSTAMP:20260423T192212
CREATED:20251231T195945Z
LAST-MODIFIED:20260304T162633Z
UID:14046-1773856800-1773862200@williamsburgbirdclub.org
SUMMARY:Meeting: Jeff Wright Presents “Birds\, Climate Change\, and Citizen Science"
DESCRIPTION:Jeff Wright will present “Birds\, Climate Change\, and Citizen Science”. The meeting will be held in-person at the Quarterpath Recreation Center and via Zoom. Arrive at 6:00 p.m. for light refreshments at the recreation center followed by the program and meeting at 6:30 p.m. \nThe Commonwealth of Virginia is a key place in the world for birds. From our barrier islands in the Atlantic to our mountains\, we offer habitats\, climates\, and food chains attractive to a wide range of birds. We are on the Atlantic Flyway which\, in many cases\, defines the exceptional number of birds transiting Virginia during migration. However\, across the globe and in Virginia\, birds in many cases are in decline. Further changes are already occurring that will also adversely impact the avian world. Foremost among these is arguably climate change. A key question is do we have the means and the will to mitigate climate change? Are efforts already underway making a difference and if so\, how? \nJeff Wright will discuss and examine how\, through individual and community efforts\, we can make a difference toward slowing the decline of bird life. He will discuss threats to birds\, citizen and community science projects related to birds\, and that birders and bird clubs are part of the solution. Photography and excerpts from studies of birds are used to tell this story. The presentation will emphasize birds in Virginia of concern\, species at a tipping point\, and birds and their habitat that need our support. Yes\, there are a variety of birds in Virginia that are proverbial “canaries in a coal mine.” The phrase is an idiom that means an advanced warning of potential trouble not just to the birds.
URL:https://williamsburgbirdclub.org/event/meeting-7/
LOCATION:Quarterpath Rec Center\, 202 Quarterpath Road\, Williamsburg\, 23185\, United States
CATEGORIES:Meeting
END:VEVENT
BEGIN:VEVENT
DTSTART;TZID=America/New_York:20260321T080000
DTEND;TZID=America/New_York:20260321T120000
DTSTAMP:20260423T192212
CREATED:20251231T200650Z
LAST-MODIFIED:20260313T224202Z
UID:14060-1774080000-1774094400@williamsburgbirdclub.org
SUMMARY:Field Trip to Machicomoco State Park
DESCRIPTION:Hi\, folks.  The Williamsburg Bird Club’s March field trip will be next Saturday March 21\, when we’ll visit Machicomoco State Park in Gloucester County.   Deborah Humphries will lead the group that day.  The weather forecast looks favorable.  Recent checklists from the park show a wide variety of species\, including Tundra Swans\, Horned Grebes\, Osprey\, Killdeer\, and lots of Field Sparrows.  Last year\, the group identified 45 species. \nWe’ll meet at the parking lot just inside the pay station at 8 a.m.  The park is located at 3601 Timberneck Farm Road\, Hayes\, VA 23072.  If you have a state park pass\, please bring it.  Vehicles without a state park pass will pay a $5 fee.  If you’d like to carpool\, or you are willing to drive others\, please let me know at grm0803@gmail.com . Carpoolers should meet at the Colony Square Shopping Center a little after 7 a.m. for departure by 7:15 a.m.
URL:https://williamsburgbirdclub.org/event/field-trip-6/
LOCATION:Machicomoco State Park\, Address 3601 Timberneck Farm Rd\, Gloucester\, VA\, United States
CATEGORIES:Field Trip
END:VEVENT
BEGIN:VEVENT
DTSTART;TZID=America/New_York:20260328T080000
DTEND;TZID=America/New_York:20260328T100000
DTSTAMP:20260423T192212
CREATED:20251228T161706Z
LAST-MODIFIED:20251228T161706Z
UID:13973-1774684800-1774692000@williamsburgbirdclub.org
SUMMARY:Bird Walk at New Quarter Park
DESCRIPTION:Park in the lot near the park office. Bring binoculars if you have them\, or borrow some from the office. Free\, open to the public. Kids welcome.
URL:https://williamsburgbirdclub.org/event/bird-walk-at-new-quarter-park-16/
LOCATION:New Quarter Park\, 1000 Lakeshead Dr\, Williamsburg\, VA\, 23185\, United States
CATEGORIES:Bird Walk
END:VEVENT
BEGIN:VEVENT
DTSTART;TZID=America/New_York:20260415T180000
DTEND;TZID=America/New_York:20260415T193000
DTSTAMP:20260423T192212
CREATED:20251231T200032Z
LAST-MODIFIED:20260304T162525Z
UID:14048-1776276000-1776281400@williamsburgbirdclub.org
SUMMARY:Meeting: Student Research
DESCRIPTION:Talks by the recipients of the WBC’s Bill Sheehan/Ruth Beck Ornithology Research Grants. Plan to attend to hear these W&M student presentations: Justin Biggerstaff on “Space Use by Barred Owls In and Around Williamsburg” and Jay Riney on “Prevention of Bird Deaths at Solar Farms”.
URL:https://williamsburgbirdclub.org/event/meeting-8/
LOCATION:Quarterpath Rec Center\, 202 Quarterpath Road\, Williamsburg\, 23185\, United States
CATEGORIES:Meeting
END:VEVENT
BEGIN:VEVENT
DTSTART;TZID=America/New_York:20260418T080000
DTEND;TZID=America/New_York:20260418T120000
DTSTAMP:20260423T192212
CREATED:20251231T200722Z
LAST-MODIFIED:20260404T190243Z
UID:14062-1776499200-1776513600@williamsburgbirdclub.org
SUMMARY:Field Trip: Newport News Park
DESCRIPTION:Hi\, folks.  We’re two weeks away from the next field trip\, scheduled for Saturday\, April 18 at Newport News Park.  We’ll meet at the parking lot near the Ranger Station (left turn off Constitution Way) at 8 a.m.\, where Jason Strickland will lead us around the variety of habitats in the park.  Recent checklists have reported a few early-returning warblers\, like Yellow-throated\, Northern Parula\, and Common Yellowthroat\, and I expect more as we near the date of the field trip. \nI won’t be arranging carpooling for this trip.  The address for the park is 13560 Jefferson Ave\, Newport News\, VA 23603.  Turn off Jefferson Avenue onto Constitution Way\, and the Ranger Station will be on the left a couple tenths of a mile in.
URL:https://williamsburgbirdclub.org/event/field-trip-7/
LOCATION:Newport News Park\, 13560 Jefferson Ave\, Newport News\, VA\, United States
CATEGORIES:Field Trip
END:VEVENT
BEGIN:VEVENT
DTSTART;TZID=America/New_York:20260425T080000
DTEND;TZID=America/New_York:20260425T100000
DTSTAMP:20260423T192212
CREATED:20251228T161745Z
LAST-MODIFIED:20251228T161745Z
UID:13975-1777104000-1777111200@williamsburgbirdclub.org
SUMMARY:Bird Walk at New Quarter Park
DESCRIPTION:Park in the lot near the park office. Bring binoculars if you have them\, or borrow some from the office. Free\, open to the public. Kids welcome.
URL:https://williamsburgbirdclub.org/event/bird-walk-at-new-quarter-park-17/
LOCATION:New Quarter Park\, 1000 Lakeshead Dr\, Williamsburg\, VA\, 23185\, United States
CATEGORIES:Bird Walk
END:VEVENT
BEGIN:VEVENT
DTSTART;VALUE=DATE:20260426
DTEND;VALUE=DATE:20260427
DTSTAMP:20260423T192212
CREATED:20251231T194243Z
LAST-MODIFIED:20251231T194243Z
UID:14034-1777161600-1777247999@williamsburgbirdclub.org
SUMMARY:Spring Bird Count
DESCRIPTION:Mark your calendars for the 2026 Spring Bird Count. Details will be added when we get them.
URL:https://williamsburgbirdclub.org/event/spring-bird-count-2/
CATEGORIES:Bird Counts
END:VEVENT
BEGIN:VEVENT
DTSTART;TZID=America/New_York:20260516T080000
DTEND;TZID=America/New_York:20260516T120000
DTSTAMP:20260423T192212
CREATED:20251231T200800Z
LAST-MODIFIED:20260420T202635Z
UID:14064-1778918400-1778932800@williamsburgbirdclub.org
SUMMARY:Field Trip to Chippokes State Park
DESCRIPTION:We will take the 7:20 ferry and plan to finish by 11:30 so if anyone wants to eat at the Surry Seafood House\, that will work. Check back for more details
URL:https://williamsburgbirdclub.org/event/field-trip-8/
LOCATION:Chippokes State Park\, 695 Chippokes Park Rd\, Surry\, United States
CATEGORIES:Field Trip
END:VEVENT
BEGIN:VEVENT
DTSTART;TZID=America/New_York:20260520T180000
DTEND;TZID=America/New_York:20260520T193000
DTSTAMP:20260423T192212
CREATED:20251231T200125Z
LAST-MODIFIED:20260420T195627Z
UID:14050-1779300000-1779305400@williamsburgbirdclub.org
SUMMARY:Meeting: Larry Meade “Birding Four Corners of Lower 48"
DESCRIPTION:ZOOM ONLY this month \nLarry Meade will tell us about “Birding Four Corners of Lower 48” via Zoom. Larry has traveled to the four corners of the United States in search of birds. He will share photos and stories from his trips to Maine\, South Florida\, Washington state\, and San Diego County\, California.
URL:https://williamsburgbirdclub.org/event/meeting-9/
CATEGORIES:Meeting
END:VEVENT
BEGIN:VEVENT
DTSTART;TZID=America/New_York:20260523T080000
DTEND;TZID=America/New_York:20260523T100000
DTSTAMP:20260423T192212
CREATED:20251228T161825Z
LAST-MODIFIED:20251228T161825Z
UID:13977-1779523200-1779530400@williamsburgbirdclub.org
SUMMARY:Bird Walk at New Quarter Park
DESCRIPTION:Park in the lot near the park office. Bring binoculars if you have them\, or borrow some from the office. Free\, open to the public. Kids welcome.
URL:https://williamsburgbirdclub.org/event/bird-walk-at-new-quarter-park-18/
LOCATION:New Quarter Park\, 1000 Lakeshead Dr\, Williamsburg\, VA\, 23185\, United States
CATEGORIES:Bird Walk
END:VEVENT
BEGIN:VEVENT
DTSTART;TZID=America/New_York:20260617T180000
DTEND;TZID=America/New_York:20260617T210000
DTSTAMP:20260423T192212
CREATED:20251231T200211Z
LAST-MODIFIED:20260420T195100Z
UID:14052-1781719200-1781730000@williamsburgbirdclub.org
SUMMARY:Meeting: Outdoor gathering at Chickahominy Riverfront Park
DESCRIPTION:Meet at Chickahominy Riverfront Park near the pool area.
URL:https://williamsburgbirdclub.org/event/meeting-10/
LOCATION:Chickahominy Riverfront Park\, 1350 John Tyler Highway\, Williamsburg\, VA\, 23185\, United States
CATEGORIES:Meeting
END:VEVENT
BEGIN:VEVENT
DTSTART;TZID=America/New_York:20260627T080000
DTEND;TZID=America/New_York:20260627T100000
DTSTAMP:20260423T192212
CREATED:20251228T174208Z
LAST-MODIFIED:20251228T174208Z
UID:13979-1782547200-1782554400@williamsburgbirdclub.org
SUMMARY:Bird Walk at New Quarter Park
DESCRIPTION:Park in the lot near the park office. Bring binoculars if you have them\, or borrow some from the office. Free\, open to the public. Kids welcome.
URL:https://williamsburgbirdclub.org/event/bird-walk-at-new-quarter-park-19/
CATEGORIES:Bird Walk
END:VEVENT
BEGIN:VEVENT
DTSTART;TZID=America/New_York:20260725T080000
DTEND;TZID=America/New_York:20260725T100000
DTSTAMP:20260423T192212
CREATED:20251228T174252Z
LAST-MODIFIED:20251228T174252Z
UID:13982-1784966400-1784973600@williamsburgbirdclub.org
SUMMARY:Bird Walk at New Quarter Park
DESCRIPTION:Park in the lot near the park office. Bring binoculars if you have them\, or borrow some from the office. Free\, open to the public. Kids welcome.
URL:https://williamsburgbirdclub.org/event/bird-walk-at-new-quarter-park-20/
LOCATION:New Quarter Park\, 1000 Lakeshead Dr\, Williamsburg\, VA\, 23185\, United States
CATEGORIES:Bird Walk
END:VEVENT
BEGIN:VEVENT
DTSTART;TZID=America/New_York:20260822T080000
DTEND;TZID=America/New_York:20260822T100000
DTSTAMP:20260423T192212
CREATED:20251228T174335Z
LAST-MODIFIED:20251228T174335Z
UID:13984-1787385600-1787392800@williamsburgbirdclub.org
SUMMARY:Bird Walk at New Quarter Park
DESCRIPTION:Park in the lot near the park office. Bring binoculars if you have them\, or borrow some from the office. Free\, open to the public. Kids welcome.
URL:https://williamsburgbirdclub.org/event/bird-walk-at-new-quarter-park-21/
LOCATION:New Quarter Park\, 1000 Lakeshead Dr\, Williamsburg\, VA\, 23185\, United States
CATEGORIES:Bird Walk
END:VEVENT
BEGIN:VEVENT
DTSTART;TZID=America/New_York:20260822T080000
DTEND;TZID=America/New_York:20260822T100000
DTSTAMP:20260423T192212
CREATED:20251228T174422Z
LAST-MODIFIED:20251228T174422Z
UID:13986-1787385600-1787392800@williamsburgbirdclub.org
SUMMARY:Bird Walk at New Quarter Park
DESCRIPTION:Park in the lot near the park office. Bring binoculars if you have them\, or borrow some from the office. Free\, open to the public. Kids welcome.
URL:https://williamsburgbirdclub.org/event/bird-walk-at-new-quarter-park-22/
LOCATION:New Quarter Park\, 1000 Lakeshead Dr\, Williamsburg\, VA\, 23185\, United States
CATEGORIES:Bird Walk
END:VEVENT
BEGIN:VEVENT
DTSTART;TZID=America/New_York:20260916T180000
DTEND;TZID=America/New_York:20260916T193000
DTSTAMP:20260423T192212
CREATED:20251231T200346Z
LAST-MODIFIED:20251231T200346Z
UID:14054-1789581600-1789587000@williamsburgbirdclub.org
SUMMARY:Meeting
DESCRIPTION:Check back for details
URL:https://williamsburgbirdclub.org/event/meeting-11/
LOCATION:Quarterpath Rec Center\, 202 Quarterpath Road\, Williamsburg\, 23185\, United States
CATEGORIES:Meeting
END:VEVENT
BEGIN:VEVENT
DTSTART;TZID=America/New_York:20260919T080000
DTEND;TZID=America/New_York:20260919T120000
DTSTAMP:20260423T192212
CREATED:20251231T201111Z
LAST-MODIFIED:20251231T201111Z
UID:14070-1789804800-1789819200@williamsburgbirdclub.org
SUMMARY:Field Trip
DESCRIPTION:Check back for details
URL:https://williamsburgbirdclub.org/event/field-trip-11/
CATEGORIES:Field Trip
END:VEVENT
BEGIN:VEVENT
DTSTART;TZID=America/New_York:20260926T080000
DTEND;TZID=America/New_York:20260926T100000
DTSTAMP:20260423T192212
CREATED:20251228T174509Z
LAST-MODIFIED:20251228T174509Z
UID:13988-1790409600-1790416800@williamsburgbirdclub.org
SUMMARY:Bird Walk at New Quarter Park
DESCRIPTION:Park in the lot near the park office. Bring binoculars if you have them\, or borrow some from the office. Free\, open to the public. Kids welcome.
URL:https://williamsburgbirdclub.org/event/bird-walk-at-new-quarter-park-23/
LOCATION:New Quarter Park\, 1000 Lakeshead Dr\, Williamsburg\, VA\, 23185\, United States
CATEGORIES:Bird Walk
END:VEVENT
BEGIN:VEVENT
DTSTART;TZID=America/New_York:20260926T080000
DTEND;TZID=America/New_York:20260926T170000
DTSTAMP:20260423T192212
CREATED:20251228T174544Z
LAST-MODIFIED:20251228T174544Z
UID:13990-1790409600-1790442000@williamsburgbirdclub.org
SUMMARY:Bird Walk at New Quarter Park
DESCRIPTION:Park in the lot near the park office. Bring binoculars if you have them\, or borrow some from the office. Free\, open to the public. Kids welcome.
URL:https://williamsburgbirdclub.org/event/bird-walk-at-new-quarter-park-24/
LOCATION:New Quarter Park\, 1000 Lakeshead Dr\, Williamsburg\, VA\, 23185\, United States
CATEGORIES:Bird Walk
END:VEVENT
BEGIN:VEVENT
DTSTART;TZID=America/New_York:20261017T080000
DTEND;TZID=America/New_York:20261017T120000
DTSTAMP:20260423T192212
CREATED:20251231T201151Z
LAST-MODIFIED:20251231T201151Z
UID:14072-1792224000-1792238400@williamsburgbirdclub.org
SUMMARY:Field Trip
DESCRIPTION:Check back for details
URL:https://williamsburgbirdclub.org/event/field-trip-12/
CATEGORIES:Field Trip
END:VEVENT
BEGIN:VEVENT
DTSTART;TZID=America/New_York:20261021T180000
DTEND;TZID=America/New_York:20261021T193000
DTSTAMP:20260423T192212
CREATED:20251231T200431Z
LAST-MODIFIED:20251231T200431Z
UID:14056-1792605600-1792611000@williamsburgbirdclub.org
SUMMARY:Meeting
DESCRIPTION:Check back for details
URL:https://williamsburgbirdclub.org/event/meeting-12/
LOCATION:Quarterpath Rec Center\, 202 Quarterpath Road\, Williamsburg\, 23185\, United States
CATEGORIES:Meeting
END:VEVENT
BEGIN:VEVENT
DTSTART;TZID=America/New_York:20261024T080000
DTEND;TZID=America/New_York:20261024T100000
DTSTAMP:20260423T192212
CREATED:20251228T174624Z
LAST-MODIFIED:20251228T174624Z
UID:13992-1792828800-1792836000@williamsburgbirdclub.org
SUMMARY:Bird Walk at New Quarter Park
DESCRIPTION:Park in the lot near the park office. Bring binoculars if you have them\, or borrow some from the office. Free\, open to the public. Kids welcome.
URL:https://williamsburgbirdclub.org/event/bird-walk-at-new-quarter-park-25/
LOCATION:New Quarter Park\, 1000 Lakeshead Dr\, Williamsburg\, VA\, 23185\, United States
CATEGORIES:Bird Walk
END:VEVENT
BEGIN:VEVENT
DTSTART;TZID=America/New_York:20261118T180000
DTEND;TZID=America/New_York:20261118T193000
DTSTAMP:20260423T192212
CREATED:20251231T200520Z
LAST-MODIFIED:20251231T200520Z
UID:14058-1795024800-1795030200@williamsburgbirdclub.org
SUMMARY:Meeting
DESCRIPTION:Check back for details
URL:https://williamsburgbirdclub.org/event/meeting-13/
LOCATION:Quarterpath Rec Center\, 202 Quarterpath Road\, Williamsburg\, 23185\, United States
CATEGORIES:Meeting
END:VEVENT
BEGIN:VEVENT
DTSTART;TZID=America/New_York:20261121T080000
DTEND;TZID=America/New_York:20261121T120000
DTSTAMP:20260423T192212
CREATED:20251231T201223Z
LAST-MODIFIED:20251231T201223Z
UID:14074-1795248000-1795262400@williamsburgbirdclub.org
SUMMARY:Field Trip
DESCRIPTION:Check back for details
URL:https://williamsburgbirdclub.org/event/field-trip-13/
CATEGORIES:Field Trip
END:VEVENT
BEGIN:VEVENT
DTSTART;TZID=America/New_York:20261128T080000
DTEND;TZID=America/New_York:20261128T170000
DTSTAMP:20260423T192212
CREATED:20251228T174656Z
LAST-MODIFIED:20251228T174656Z
UID:13994-1795852800-1795885200@williamsburgbirdclub.org
SUMMARY:Bird Walk at New Quarter Park
DESCRIPTION:Park in the lot near the park office. Bring binoculars if you have them\, or borrow some from the office. Free\, open to the public. Kids welcome.
URL:https://williamsburgbirdclub.org/event/bird-walk-at-new-quarter-park-26/
LOCATION:New Quarter Park\, 1000 Lakeshead Dr\, Williamsburg\, VA\, 23185\, United States
CATEGORIES:Bird Walk
END:VEVENT
BEGIN:VEVENT
DTSTART;VALUE=DATE:20261220
DTEND;VALUE=DATE:20261221
DTSTAMP:20260423T192212
CREATED:20251231T194346Z
LAST-MODIFIED:20251231T194346Z
UID:14036-1797724800-1797811199@williamsburgbirdclub.org
SUMMARY:Christmas Bird Count
DESCRIPTION:Mark your calendar for the 2026 Audubon Christmas Bird Count!
URL:https://williamsburgbirdclub.org/event/christmas-bird-count-2/
CATEGORIES:Bird Counts
END:VEVENT
BEGIN:VEVENT
DTSTART;TZID=America/New_York:20261226T080000
DTEND;TZID=America/New_York:20261226T100000
DTSTAMP:20260423T192212
CREATED:20251228T174737Z
LAST-MODIFIED:20251228T174737Z
UID:13996-1798272000-1798279200@williamsburgbirdclub.org
SUMMARY:Bird Walk at New Quarter Park
DESCRIPTION:Park in the lot near the park office. Bring binoculars if you have them\, or borrow some from the office. Free\, open to the public. Kids welcome.
URL:https://williamsburgbirdclub.org/event/bird-walk-at-new-quarter-park-27/
LOCATION:New Quarter Park\, 1000 Lakeshead Dr\, Williamsburg\, VA\, 23185\, United States
CATEGORIES:Bird Walk
END:VEVENT
END:VCALENDAR