BEGIN:VCALENDAR
VERSION:2.0
PRODID:-//Williamsburg Bird Club - ECPv6.15.20//NONSGML v1.0//EN
CALSCALE:GREGORIAN
METHOD:PUBLISH
X-ORIGINAL-URL:https://williamsburgbirdclub.org
X-WR-CALDESC:Events for Williamsburg Bird Club
REFRESH-INTERVAL;VALUE=DURATION:PT1H
X-Robots-Tag:noindex
X-PUBLISHED-TTL:PT1H
BEGIN:VTIMEZONE
TZID:America/New_York
BEGIN:DAYLIGHT
TZOFFSETFROM:-0500
TZOFFSETTO:-0400
TZNAME:EDT
DTSTART:20240310T070000
END:DAYLIGHT
BEGIN:STANDARD
TZOFFSETFROM:-0400
TZOFFSETTO:-0500
TZNAME:EST
DTSTART:20241103T060000
END:STANDARD
BEGIN:DAYLIGHT
TZOFFSETFROM:-0500
TZOFFSETTO:-0400
TZNAME:EDT
DTSTART:20250309T070000
END:DAYLIGHT
BEGIN:STANDARD
TZOFFSETFROM:-0400
TZOFFSETTO:-0500
TZNAME:EST
DTSTART:20251102T060000
END:STANDARD
BEGIN:DAYLIGHT
TZOFFSETFROM:-0500
TZOFFSETTO:-0400
TZNAME:EDT
DTSTART:20260308T070000
END:DAYLIGHT
BEGIN:STANDARD
TZOFFSETFROM:-0400
TZOFFSETTO:-0500
TZNAME:EST
DTSTART:20261101T060000
END:STANDARD
END:VTIMEZONE
BEGIN:VEVENT
DTSTART;TZID=America/New_York:20250115T180000
DTEND;TZID=America/New_York:20250115T203000
DTSTAMP:20260423T202358
CREATED:20241216T014737Z
LAST-MODIFIED:20250114T205151Z
UID:10168-1736964000-1736973000@williamsburgbirdclub.org
SUMMARY:Meeting: John Swaddle on Sparrows as Sentinels
DESCRIPTION:This will be our joint meeting with the Historic Rivers Chapter of the\nVirginia Master Naturalists. Presenter will be Dr. John Swaddle\, Professor of Biology and Faculty Director of the W&M Institute for Integrative Conservation\, on “Sparrows as Sentinels: Health study illustrates the\ninterconnectedness of humans and wildlife.” \nSocializing at 6:00; Presentation at 6:30
URL:https://williamsburgbirdclub.org/event/meeting-john-swaddle-on-sparrows-as-sentinels/
LOCATION:Quarterpath Rec Center\, 202 Quarterpath Road\, Williamsburg\, 23185\, United States
CATEGORIES:Meeting
END:VEVENT
END:VCALENDAR