BEGIN:VCALENDAR
VERSION:2.0
PRODID:-//Williamsburg Bird Club - ECPv6.15.20//NONSGML v1.0//EN
CALSCALE:GREGORIAN
METHOD:PUBLISH
X-ORIGINAL-URL:https://williamsburgbirdclub.org
X-WR-CALDESC:Events for Williamsburg Bird Club
REFRESH-INTERVAL;VALUE=DURATION:PT1H
X-Robots-Tag:noindex
X-PUBLISHED-TTL:PT1H
BEGIN:VTIMEZONE
TZID:America/New_York
BEGIN:DAYLIGHT
TZOFFSETFROM:-0500
TZOFFSETTO:-0400
TZNAME:EDT
DTSTART:20250309T070000
END:DAYLIGHT
BEGIN:STANDARD
TZOFFSETFROM:-0400
TZOFFSETTO:-0500
TZNAME:EST
DTSTART:20251102T060000
END:STANDARD
BEGIN:DAYLIGHT
TZOFFSETFROM:-0500
TZOFFSETTO:-0400
TZNAME:EDT
DTSTART:20260308T070000
END:DAYLIGHT
BEGIN:STANDARD
TZOFFSETFROM:-0400
TZOFFSETTO:-0500
TZNAME:EST
DTSTART:20261101T060000
END:STANDARD
BEGIN:DAYLIGHT
TZOFFSETFROM:-0500
TZOFFSETTO:-0400
TZNAME:EDT
DTSTART:20270314T070000
END:DAYLIGHT
BEGIN:STANDARD
TZOFFSETFROM:-0400
TZOFFSETTO:-0500
TZNAME:EST
DTSTART:20271107T060000
END:STANDARD
END:VTIMEZONE
BEGIN:VEVENT
DTSTART;TZID=America/New_York:20260121T180000
DTEND;TZID=America/New_York:20260121T200000
DTSTAMP:20260424T004441
CREATED:20251231T195404Z
LAST-MODIFIED:20251231T195404Z
UID:14042-1769018400-1769025600@williamsburgbirdclub.org
SUMMARY:Meeting: Bobby Clontz “Land Management Practices Supporting the Red-cockaded Woodpecker”
DESCRIPTION:Check back for details
URL:https://williamsburgbirdclub.org/event/meeting-bobby-clontz-land-management-practices-supporting-the-red-cockaded-woodpecker/
LOCATION:Quarterpath Rec Center\, 202 Quarterpath Road\, Williamsburg\, 23185\, United States
CATEGORIES:Meeting
END:VEVENT
END:VCALENDAR