BEGIN:VCALENDAR
VERSION:2.0
PRODID:-//Williamsburg Bird Club - ECPv6.15.20//NONSGML v1.0//EN
CALSCALE:GREGORIAN
METHOD:PUBLISH
X-WR-CALNAME:Williamsburg Bird Club
X-ORIGINAL-URL:https://williamsburgbirdclub.org
X-WR-CALDESC:Events for Williamsburg Bird Club
REFRESH-INTERVAL;VALUE=DURATION:PT1H
X-Robots-Tag:noindex
X-PUBLISHED-TTL:PT1H
BEGIN:VTIMEZONE
TZID:America/New_York
BEGIN:DAYLIGHT
TZOFFSETFROM:-0500
TZOFFSETTO:-0400
TZNAME:EDT
DTSTART:20250309T070000
END:DAYLIGHT
BEGIN:STANDARD
TZOFFSETFROM:-0400
TZOFFSETTO:-0500
TZNAME:EST
DTSTART:20251102T060000
END:STANDARD
BEGIN:DAYLIGHT
TZOFFSETFROM:-0500
TZOFFSETTO:-0400
TZNAME:EDT
DTSTART:20260308T070000
END:DAYLIGHT
BEGIN:STANDARD
TZOFFSETFROM:-0400
TZOFFSETTO:-0500
TZNAME:EST
DTSTART:20261101T060000
END:STANDARD
BEGIN:DAYLIGHT
TZOFFSETFROM:-0500
TZOFFSETTO:-0400
TZNAME:EDT
DTSTART:20270314T070000
END:DAYLIGHT
BEGIN:STANDARD
TZOFFSETFROM:-0400
TZOFFSETTO:-0500
TZNAME:EST
DTSTART:20271107T060000
END:STANDARD
END:VTIMEZONE
BEGIN:VEVENT
DTSTART;TZID=America/New_York:20260117T080000
DTEND;TZID=America/New_York:20260117T120000
DTSTAMP:20260424T004040
CREATED:20251231T195045Z
LAST-MODIFIED:20260103T194219Z
UID:14040-1768636800-1768651200@williamsburgbirdclub.org
SUMMARY:Field Trip: Dutch Gap
DESCRIPTION:For our field trip in January\, we’ll visit Dutch Gap Conservation Area in Chester\, VA on Saturday\, January 17.  Rose Ryan will lead our group.  Dutch Gap is a reliable location to view wintering dabbling ducks.  Last year\, the group identified 10 duck species\, plus Wilson’s Snipe and American Coot\, and 50 species in total.  Recent eBird reports have noted all those species present. \nWe’ll meet at 9 a.m. in the parking lot of Henricus Historical Park\, located at 251 Henricus Park Road\, Chester\, VA 23836. Google Maps provides accurate directions to the park.  I expect we’ll be birding throughout the morning.  The long-range weather forecast calls for seasonal temperatures\, although I know that can change.  Stay tuned!
URL:https://williamsburgbirdclub.org/event/field-trip-5/
CATEGORIES:Field Trip
END:VEVENT
END:VCALENDAR