BEGIN:VCALENDAR
VERSION:2.0
PRODID:-//Williamsburg Bird Club - ECPv6.15.20//NONSGML v1.0//EN
CALSCALE:GREGORIAN
METHOD:PUBLISH
X-WR-CALNAME:Williamsburg Bird Club
X-ORIGINAL-URL:https://williamsburgbirdclub.org
X-WR-CALDESC:Events for Williamsburg Bird Club
REFRESH-INTERVAL;VALUE=DURATION:PT1H
X-Robots-Tag:noindex
X-PUBLISHED-TTL:PT1H
BEGIN:VTIMEZONE
TZID:America/New_York
BEGIN:DAYLIGHT
TZOFFSETFROM:-0500
TZOFFSETTO:-0400
TZNAME:EDT
DTSTART:20240310T070000
END:DAYLIGHT
BEGIN:STANDARD
TZOFFSETFROM:-0400
TZOFFSETTO:-0500
TZNAME:EST
DTSTART:20241103T060000
END:STANDARD
BEGIN:DAYLIGHT
TZOFFSETFROM:-0500
TZOFFSETTO:-0400
TZNAME:EDT
DTSTART:20250309T070000
END:DAYLIGHT
BEGIN:STANDARD
TZOFFSETFROM:-0400
TZOFFSETTO:-0500
TZNAME:EST
DTSTART:20251102T060000
END:STANDARD
BEGIN:DAYLIGHT
TZOFFSETFROM:-0500
TZOFFSETTO:-0400
TZNAME:EDT
DTSTART:20260308T070000
END:DAYLIGHT
BEGIN:STANDARD
TZOFFSETFROM:-0400
TZOFFSETTO:-0500
TZNAME:EST
DTSTART:20261101T060000
END:STANDARD
END:VTIMEZONE
BEGIN:VEVENT
DTSTART;TZID=America/New_York:20251115T080000
DTEND;TZID=America/New_York:20251115T120000
DTSTAMP:20260424T034918
CREATED:20250927T232900Z
LAST-MODIFIED:20251103T192112Z
UID:12498-1763193600-1763208000@williamsburgbirdclub.org
SUMMARY:Field Trip: Grandview Nature Preserve
DESCRIPTION:On Saturday\, November 15\, Nancy Barnhart will lead us at Grandview Nature Preserve in Hampton.  This trip usually provides early views of wintering waterfowl\, with loons\, scoters\, buffleheads among others riding the waves off the beach\, while shorebirds scuttle across the sand.  And the walk through the marsh to get to the beach frequently has some unusual species\, like the Sedge Wren identified each of the last two years.   \nWe’ll meet at the entrance to the park at 8 a.m.  The entrance is at the end of State Park Drive.  Google Map directions are reliable.  Park along State Park Drive. \nCarpooling:  if you’d like to carpool\, or if you can drive others\, please let me know at grm0803@gmail.com.  Those wishing to carpool should meet at the Colony Square Shopping Center a little after 7 a.m.\, for a departure no later than 7:10 a.m.  As of this writing\, one person has expressed an interest in being either a driver or a rider\, depending on demand. \nFree and open to the public
URL:https://williamsburgbirdclub.org/event/field-trip-3/
LOCATION:Grandview Nature Preserve\, State Park Drive\, Hampton\, Virginia\, 23664
CATEGORIES:Field Trip
END:VEVENT
END:VCALENDAR