BEGIN:VCALENDAR
VERSION:2.0
PRODID:-//Williamsburg Bird Club - ECPv6.15.20//NONSGML v1.0//EN
CALSCALE:GREGORIAN
METHOD:PUBLISH
X-ORIGINAL-URL:https://williamsburgbirdclub.org
X-WR-CALDESC:Events for Williamsburg Bird Club
REFRESH-INTERVAL;VALUE=DURATION:PT1H
X-Robots-Tag:noindex
X-PUBLISHED-TTL:PT1H
BEGIN:VTIMEZONE
TZID:America/New_York
BEGIN:DAYLIGHT
TZOFFSETFROM:-0500
TZOFFSETTO:-0400
TZNAME:EDT
DTSTART:20250309T070000
END:DAYLIGHT
BEGIN:STANDARD
TZOFFSETFROM:-0400
TZOFFSETTO:-0500
TZNAME:EST
DTSTART:20251102T060000
END:STANDARD
BEGIN:DAYLIGHT
TZOFFSETFROM:-0500
TZOFFSETTO:-0400
TZNAME:EDT
DTSTART:20260308T070000
END:DAYLIGHT
BEGIN:STANDARD
TZOFFSETFROM:-0400
TZOFFSETTO:-0500
TZNAME:EST
DTSTART:20261101T060000
END:STANDARD
BEGIN:DAYLIGHT
TZOFFSETFROM:-0500
TZOFFSETTO:-0400
TZNAME:EDT
DTSTART:20270314T070000
END:DAYLIGHT
BEGIN:STANDARD
TZOFFSETFROM:-0400
TZOFFSETTO:-0500
TZNAME:EST
DTSTART:20271107T060000
END:STANDARD
END:VTIMEZONE
BEGIN:VEVENT
DTSTART;TZID=America/New_York:20260101T130000
DTEND;TZID=America/New_York:20260101T150000
DTSTAMP:20260424T004244
CREATED:20251228T160340Z
LAST-MODIFIED:20251228T160423Z
UID:13964-1767272400-1767279600@williamsburgbirdclub.org
SUMMARY:New Year's Day Bird and Birder Show
DESCRIPTION:Please join birding enthusiasts Thursday\, January 1\, 2026\, at Chickahominy Riverfront Park for the “New Year’s Day Bird and Birder Show.” The 2026 gathering will be our club’s 20th “almost-annual” event. \nWe’ll convene at the shelter next to the park’s swimming pool from 1:00 – 3:00 p.m. Relax and visit with new and familiar friends at the picnic tables or venture out around the park to find our wintering birds. The park provides wonderful access to check the river (from the fishing pier!) and Gordon Creek (from the boat launch) for our wintering waterfowl\, plus the woodland edges will yield our winter residents. \nThe address for Chickahominy Riverfront Park is 1350 John Tyler Highway\, Williamsburg\, VA 23185. You can find directions on the park’s website by clicking this link. \nBring visiting family\, friends\, and children; come early\, stay late\, or just drop by. Remember\, every bird is a year bird on New Year’s Day! I look forward to wel-\ncoming you to celebrate the start of 2026. \nFree and open to the public.
URL:https://williamsburgbirdclub.org/event/new-years-day-bird-and-birder-show-2/
LOCATION:Chickahominy Riverfront Park\, 1350 John Tyler Highway\, Williamsburg\, VA\, 23185\, United States
CATEGORIES:Bird Walk
END:VEVENT
END:VCALENDAR